BEGIN:VCALENDAR
VERSION:2.0
PRODID:-//Федерація Аквабайку України - ECPv4.6.18//NONSGML v1.0//EN
CALSCALE:GREGORIAN
METHOD:PUBLISH
X-WR-CALNAME:Федерація Аквабайку України
X-ORIGINAL-URL:https://aquabike.com.ua
X-WR-CALDESC:Events for Федерація Аквабайку України
BEGIN:VEVENT
DTSTART;TZID=UTC+3:20170708T080000
DTEND;TZID=UTC+3:20170709T170000
DTSTAMP:20260420T054009
CREATED:20170626T202230Z
LAST-MODIFIED:20170626T202343Z
UID:131-1499500800-1499619600@aquabike.com.ua
SUMMARY:2017 European Freestyle Championship RD3 & Finals
DESCRIPTION:Данное событие взято с сайта аквабайк федерации IJSBA! \n\nhttp://www.pwcfreestyle.eu \n \n
URL:https://aquabike.com.ua/event/2017-european-freestyle-championship-rd3-finals/
CATEGORIES:IJSBA международные
END:VEVENT
END:VCALENDAR