BEGIN:VCALENDAR
VERSION:2.0
PRODID:-//Федерація Аквабайку України - ECPv4.6.18//NONSGML v1.0//EN
CALSCALE:GREGORIAN
METHOD:PUBLISH
X-WR-CALNAME:Федерація Аквабайку України
X-ORIGINAL-URL:https://aquabike.com.ua
X-WR-CALDESC:Events for Федерація Аквабайку України
BEGIN:VEVENT
DTSTART;VALUE=DATE:20170909
DTEND;VALUE=DATE:20170911
DTSTAMP:20260420T100544
CREATED:20170626T211602Z
LAST-MODIFIED:20170626T211822Z
UID:163-1504915200-1505087999@aquabike.com.ua
SUMMARY:2017 Jetcross Tour RD 5
DESCRIPTION:Данное событие взято с сайта аквабайк федерации IJSBA \n\nhttp://www.jetcrosstour.com/5-putrajaya-malaysia-25-26-november/ \nhttp://www.jetcrosstour.com/5-putrajaya-malaysia-25-26-november/ \n
URL:https://aquabike.com.ua/event/2017-jetcross-tour-rd-5/
CATEGORIES:IJSBA международные,Все мероприятия
END:VEVENT
END:VCALENDAR