BEGIN:VCALENDAR
VERSION:2.0
PRODID:-//Федерація Аквабайку України - ECPv4.6.18//NONSGML v1.0//EN
CALSCALE:GREGORIAN
METHOD:PUBLISH
X-WR-CALNAME:Федерація Аквабайку України
X-ORIGINAL-URL:https://aquabike.com.ua
X-WR-CALDESC:Events for Федерація Аквабайку України
BEGIN:VEVENT
DTSTART;VALUE=DATE:20170812
DTEND;VALUE=DATE:20170814
DTSTAMP:20260422T115356
CREATED:20170626T205347Z
LAST-MODIFIED:20170626T205347Z
UID:151-1502496000-1502668799@aquabike.com.ua
SUMMARY:Best of the West Season Finals
DESCRIPTION:Данное событие взято с сайта аквабайк федерации IJSBA! \n\nhttp://www.rpmracingent.com/ \n \n
URL:https://aquabike.com.ua/event/best-of-the-west-season-finals/
CATEGORIES:IJSBA международные
END:VEVENT
END:VCALENDAR