BEGIN:VCALENDAR
VERSION:2.0
PRODID:-//Федерація Аквабайку України - ECPv4.6.18//NONSGML v1.0//EN
CALSCALE:GREGORIAN
METHOD:PUBLISH
X-WR-CALNAME:Федерація Аквабайку України
X-ORIGINAL-URL:https://aquabike.com.ua
X-WR-CALDESC:Events for Федерація Аквабайку України
BEGIN:VEVENT
DTSTART;VALUE=DATE:20170625
DTEND;VALUE=DATE:20170627
DTSTAMP:20260420T053948
CREATED:20170626T211300Z
LAST-MODIFIED:20170626T212257Z
UID:160-1498348800-1498521599@aquabike.com.ua
SUMMARY:Blake Corning’s 2017 Water X Series Rounds 5&6
DESCRIPTION:Данное событие взято с сайта аквабайк федерации IJSBA! \n\nhttps://www.facebook.com/WaterXRacing \n \n
URL:https://aquabike.com.ua/event/blake-cornings-2017-water-x-series-rounds-56/
CATEGORIES:IJSBA международные,Все мероприятия
END:VEVENT
END:VCALENDAR