BEGIN:VCALENDAR
VERSION:2.0
PRODID:-//Федерація Аквабайку України - ECPv4.6.18//NONSGML v1.0//EN
CALSCALE:GREGORIAN
METHOD:PUBLISH
X-WR-CALNAME:Федерація Аквабайку України
X-ORIGINAL-URL:https://aquabike.com.ua
X-WR-CALDESC:Events for Федерація Аквабайку України
BEGIN:VEVENT
DTSTART;TZID=UTC+3:20170715T080000
DTEND;TZID=UTC+3:20170716T170000
DTSTAMP:20260420T052318
CREATED:20170626T204159Z
LAST-MODIFIED:20170626T204159Z
UID:133-1500105600-1500224400@aquabike.com.ua
SUMMARY:CanAm Watercross RD 2
DESCRIPTION:Данное событие взято с сайта аквабайк федерации IJSBA! \n\nhttps://www.facebook.com/search/top/?q=canam%20watercross%20tour \n \n
URL:https://aquabike.com.ua/event/canam-watercross-rd-2/
CATEGORIES:IJSBA международные
END:VEVENT
END:VCALENDAR