BEGIN:VCALENDAR
VERSION:2.0
PRODID:-//Федерація Аквабайку України - ECPv4.6.18//NONSGML v1.0//EN
CALSCALE:GREGORIAN
METHOD:PUBLISH
X-WR-CALNAME:Федерація Аквабайку України
X-ORIGINAL-URL:https://aquabike.com.ua
X-WR-CALDESC:Events for Федерація Аквабайку України
BEGIN:VEVENT
DTSTART;VALUE=DATE:20170812
DTEND;VALUE=DATE:20170814
DTSTAMP:20260420T071210
CREATED:20170626T210952Z
LAST-MODIFIED:20170626T210952Z
UID:154-1502496000-1502668799@aquabike.com.ua
SUMMARY:CanAm Watercross RD 3
DESCRIPTION:Данное событие взято с сайта аквабайк федерации IJSBA! \n\nhttps://www.facebook.com/search/top/?q=canam%20watercross%20tour \n \n
URL:https://aquabike.com.ua/event/canam-watercross-rd-3/
CATEGORIES:IJSBA международные,Все мероприятия
END:VEVENT
END:VCALENDAR