BEGIN:VCALENDAR
VERSION:2.0
PRODID:-//Федерація Аквабайку України - ECPv4.6.18//NONSGML v1.0//EN
CALSCALE:GREGORIAN
METHOD:PUBLISH
X-WR-CALNAME:Федерація Аквабайку України
X-ORIGINAL-URL:https://aquabike.com.ua
X-WR-CALDESC:Events for Федерація Аквабайку України
BEGIN:VEVENT
DTSTART;VALUE=DATE:20170819
DTEND;VALUE=DATE:20170821
DTSTAMP:20260420T053857
CREATED:20170626T211128Z
LAST-MODIFIED:20170626T211142Z
UID:159-1503100800-1503273599@aquabike.com.ua
SUMMARY:P1 AquaX Islamorada
DESCRIPTION:Данное событие взято с сайта аквабайк федерации IJSBA! \n\nhttps://p1aquax.com/ \n \n
URL:https://aquabike.com.ua/event/p1-aquax-islamorada/
CATEGORIES:IJSBA международные,Все мероприятия
END:VEVENT
END:VCALENDAR