BEGIN:VCALENDAR
VERSION:2.0
PRODID:-//Федерація Аквабайку України - ECPv4.6.18//NONSGML v1.0//EN
CALSCALE:GREGORIAN
METHOD:PUBLISH
X-WR-CALNAME:Федерація Аквабайку України
X-ORIGINAL-URL:https://aquabike.com.ua
X-WR-CALDESC:Events for Федерація Аквабайку України
BEGIN:VEVENT
DTSTART;TZID=UTC+3:20170701T080000
DTEND;TZID=UTC+3:20170702T170000
DTSTAMP:20260420T035416
CREATED:20170626T132542Z
LAST-MODIFIED:20170626T200800Z
UID:114-1498896000-1499014800@aquabike.com.ua
SUMMARY:P1 AquaX Sarasota Gran Prix - Сарасота Гран При
DESCRIPTION:Данное событие взято с сайта аквабайк федерации IJSBA!\n—————\n \nLocated on Southwest Florida’s Gulf Coast\, Sarasota County provides the quintessential white-sand beach getaway\, perfect for absorbing the noise\, power and excitement of a double-bill of worldclass powerboat and jetski racing. \nLast year\, race day started with the P1 Panthers in action followed by AquaX racers\, which saw personal watercraft racing for the first time. It was the second time a staggered start had been used! The racing was top notch and improved with each race\, with several racers showing off their skills. \nThe vibrancy and carnival atmosphere of a P1 event perfectly complements Sarasota’s unique circus heritage. Dubbed “Home of the American Circus\,” Sarasota County served as the headquarters for the Ringling Brothers\, Barnum & Bailey Circus for 75 years\, and fans can experience its special culture first-hand by following the circus trail or catching a performance by one of two local circus companies. \nFor more information on visiting Sarasota County\, visit www.visitsarasota.org or call (800) 522-9799. \nDon’t miss it! \n
URL:https://aquabike.com.ua/event/p1-aquax-sarasota-gran-prix-sarasota-gran-pri/
LOCATION:Lido Beach Sarasota\, Lido Beach Sarasota\, FL\, Соединенные штаты
CATEGORIES:IJSBA международные
END:VEVENT
END:VCALENDAR